BEGIN:VCALENDAR
VERSION:2.0
PRODID:-//wp-events-plugin.com//7.0.5//EN
BEGIN:VEVENT
UID:22@bigv.be
DTSTART:20241014T070000Z
DTEND:20241017T140000Z
DTSTAMP:20240905T095057Z
URL:https://bigv.be/nl/events/neuro-de-escalatie-foundation-advanced-cours
 es-oktober-2024/
SUMMARY:Neuro de-escalatie: Foundation & Advanced courses - oktober 2024
DESCRIPTION:\n\n\n\n1. Neuro de-escalatie Foundation training \ndoor Christ
 oph &amp\; Elke Göttl\n14\, 15 en 16 oktober 2024 (9u - 16u)\nUitgebreide
  informatie door Christoph en Elke Göttl over deze Foundation training vi
 nd je onderaan.\nKostprijs\, inclusief lunches en koffie: 595€\n\n\n\n\n
 2. Advanced day\ndoor Christoph &amp\; Elke Göttl\ndonderdag 17 oktober 2
 024 (9u - 16u)\nUitgebreide informatie door Christoph en Elk Göttl over d
 eze Advanced day vind je onderaan.\n\nKostprijs\, inclusief lunch en koffi
 e: 190€\n\n\nPlaats : Les Ateliers des Tanneurs – Huidevettersstraat 6
 0A – 1000 Brussel\nVoertaal: Engels\nAccreditatie voor artsen\nUiterste 
 inschrijvingsdatum: dinsdag 1 oktober 2024\n\nINSCHRIJVEN\n\n\n\n\nInforma
 tie van Christoph &amp\; Elke Göttl over deze opleidingsdagen:\n\n1.  Ne
 uro de-escalation Foundation course (14\, 15 &amp\; 16/10/2024)\nNeuro de-
 escalation applies findings in neurobiology\, NVR\, attachment\, trauma an
 d body psychotherapy to the specific problem of escalation. It´s goal is 
 to turn escalating situations into corrective emotional experiences\, thus
  healing developmental and attachment trauma. To be able to do so\, caregi
 vers need to learn to self-regulate in the midst of threat to be able to e
 stablish emotional contact to the escalating person.\n\nIn the foundation 
 course we train you in a specific method to self-regulate to be applied in
  the midst of threatening situations. You will leave the course with the f
 irst prototype of your self-regulating set\, ready to be tested and furthe
 r developed in real life.\n\nMoreover you will learn:\n\n 	the 4 neurobiol
 ogical options to be stronger than the threat system\n 	to interrupt escal
 ations and offer support to the escalating person even in very heated esca
 lations\n 	to turn the escalating situation in a perfect situation for hea
 ling developmental trauma\n 	to establish yourself as social orienting per
 son in threatening situations\n\nWe explore situations you have witnessed 
 in systemic role plays.\n\n 	How to get in touch?\n 	How to establish true
  support?\n 	How to become the orienting person?\n 	How to guide over emot
 ional abyss?\n 	How to integrate such extreme experiences?\n\n2.  Advance
 d day (17/10/2024)\nFor the first time in Belgium we offer an advanced day
  that can be attended after participation in a foundation course. On the 
 basis of the knowledge aquired and the embodied attitude we will work on a
 ttachment oriented body interventions.\nIs this for me?\nWe welcome not on
 ly professionals such as social workers\, psychologists\, psychiatrists\, 
 therapists and child mental health nurses\, but also foster and residentia
 l carers.\n\nJoin a community anchoring in mutual support even when the ir
 on is hot.\nApplications\nNeuro de-escalation equally works for children\
 , young people and adults. It does not depend on intelligence\, age\, phy
 sical nor mental state of the person. Neuro de-escalation is best tested 
 in psychiatries\, child and youth care\, foster care settings and settings
  for handicapped people.\nTrainers\nElke and Christoph Göttl created the
  International Movement of Neuro de-escalation for dignity\, healing and
  peace.\nNeuro De-escalation in practice is a new and innovative approac
 h that applies the findings of neurobiology\, attachment and trauma theo
 ry as well as body psychotherapy to the specific problem of escalation.\
 nTheir  international trainer team holds seminars throughout Europe and C
 anada. Together with Dan Dolberger and Peter Jakob they are integrating ne
 uro de-escalation into the concept of NVR. They founded the Centre „ress
 ourcenreich“ for trauma-informed psychotherapy and psychiatry in Graz\, 
 Austria.\n\nChristoph Göttl is a child and adolescent psychiatrist\, phy
 sician and trauma psychotherapist.\n\nElke Göttl-Resch is trauma psychot
 herapist with a specializiation in body psychotherapy.\n\nchristoph.goettl
 @ressourcenreich.at  +43 664 190 25 71\nelke.goettl@ressourcenreich.at
  +43 664 9298 808\n\nwww.neurodeescalation.com\n\n
LOCATION:Les ateliers des Tanneurs\, Huidevettersstraat 60A\, Brussel\, 100
 0\, België
X-APPLE-STRUCTURED-LOCATION;VALUE=URI;X-ADDRESS=Huidevettersstraat 60A\, Br
 ussel\, 1000\, België;X-APPLE-RADIUS=100;X-TITLE=Les ateliers des Tanneur
 s:geo:0,0
END:VEVENT
END:VCALENDAR